BEGIN:VCALENDAR
VERSION:2.0
PRODID:-//eventon.com NONSGML v1.0//EN
CALSCALE:GREGORIAN
METHOD:PUBLISH
BEGIN:VEVENT
UID:69e733fca015c
DTSTAMP:20260421T082324Z
DTSTART:20221122T173000Z
DTEND:20221122T190000Z
LOCATION:HU Berlin Unter den Linden 6
SUMMARY:W. E. B. Du Bois Lecture: Michael Thomas
DESCRIPTION:DOR 24\,  1501 Du Bois' famous question\,  "How does it feel to
  be a problem?\, " points to the role of race in experience\,  both as a di
 vision between races and within racialized peoples. This question also poin
 ts to a wider role of the experience of race in Du Bois' early[..]\nhttps:/
 /literaturwissenschaft-berlin.de/events/w-e-b-du-bois-lecture-michael-thoma
 s/
URL:https://literaturwissenschaft-berlin.de/events/w-e-b-du-bois-lecture-michael-thomas/
END:VEVENT
END:VCALENDAR