BEGIN:VCALENDAR
VERSION:2.0
PRODID:-//eventon.com NONSGML v1.0//EN
CALSCALE:GREGORIAN
METHOD:PUBLISH
BEGIN:VEVENT
UID:69e903cc7ac0f
DTSTAMP:20260422T172220Z
DTSTART:20230110T170000Z
DTEND:20230110T220000Z
LOCATION:Akademie der Künste - Hanseatenweg Hanseatenweg 10\,  10557 Berlin
SUMMARY:Jin*\,  Jîyan\,  Azadî / زن*، زندگی، آزادی / Woman*\,  Life\,  Freedom / Frau*\,  Leben\,  Freiheit
DESCRIPTION:Zum revolutionären Prozess gegen die Islamische Republik und z
 u der Rolle der Künste Am 16. September 2022 wurde die 22-jährige Kurdin 
 Jina (Mahsa) Amini von der sogenannten Sittenpolizei in Polizeigewahrsam in
  Teheran getötet. Seither wird im Staatsgebiet Iran gegen den Terror des S
 taats und für einen Regimewechsel protestiert. Im Zuge[..]\nhttps://litera
 turwissenschaft-berlin.de/events/jin-jiyan-azadi-%d8%b2%d9%86%d8%8c-%d8%b2%
 d9%86%d8%af%da%af%db%8c%d8%8c-%d8%a2%d8%b2%d8%a7%d8%af%db%8c-woman-life-fre
 edom-frau-leben-freiheit/
URL:https://literaturwissenschaft-berlin.de/events/jin-jiyan-azadi-%d8%b2%d9%86%d8%8c-%d8%b2%d9%86%d8%af%da%af%db%8c%d8%8c-%d8%a2%d8%b2%d8%a7%d8%af%db%8c-woman-life-freedom-frau-leben-freiheit/
END:VEVENT
END:VCALENDAR