BEGIN:VCALENDAR
VERSION:2.0
PRODID:-//eventon.com NONSGML v1.0//EN
CALSCALE:GREGORIAN
METHOD:PUBLISH
BEGIN:VEVENT
UID:69e7342b3e9f7
DTSTAMP:20260421T082411Z
DTSTART:20230204T090000Z
DTEND:20230204T140000Z
LOCATION:Literaturforum im Brecht-Haus Chausseestraße 125\,  10115 Berlin
SUMMARY:Rassismus: What’s Class Got To Do With It?
DESCRIPTION:Die Rassismuskritik hat in Deutschland in den letzten Jahren de
 utlich Aufwind bekommen. Kämpfe Geflüchteter\,  migrantischer Widerstand 
 gegen rassistischen Terror und die Proteste um Black Lives Matter haben das
  Thema Rassismus nach Jahrzehnten des Schweigens endlich auf die Agenda geb
 racht. Gleichzeitig haben Konzepte wie struktureller und alltäglicher Rass
 ismus\,  weiße Privilegien\,  kulturelle[..]\nhttps://literaturwissenschaf
 t-berlin.de/events/rassismus-whats-class-got-to-do-with-it/
URL:https://literaturwissenschaft-berlin.de/events/rassismus-whats-class-got-to-do-with-it/
END:VEVENT
END:VCALENDAR