BEGIN:VCALENDAR
VERSION:2.0
PRODID:-//eventon.com NONSGML v1.0//EN
CALSCALE:GREGORIAN
METHOD:PUBLISH
BEGIN:VEVENT
UID:69e733b23d049
DTSTAMP:20260421T082210Z
DTSTART:20230609T120000Z
DTEND:20230609T170000Z
LOCATION:Freie Universität Berlin Habelschwerdter Allee 45\,  14195 Berlin
SUMMARY:Il fumetto: teoria\,  letteratura\,  didattica
DESCRIPTION:Die Veranstaltung bietet einen Überblick über Comics als Lern
 mittel. Die Diskussion wird in drei Teile gegliedert sein. Zunächst werden
  Comics als Textgattung vorgestellt\,  wobei auch die Rolle von Comics in d
 er klassischen Literatur beleuchtet wird. Anschließend wird die Beziehung 
 zwischen Comics und dem Unterricht der italienischen Sprache als L2 analysi
 ert\, [..]\nhttps://literaturwissenschaft-berlin.de/events/il-fumetto-teori
 a-letteratura-didattica/
URL:https://literaturwissenschaft-berlin.de/events/il-fumetto-teoria-letteratura-didattica/
END:VEVENT
END:VCALENDAR