BEGIN:VCALENDAR
VERSION:2.0
PRODID:-//eventon.com NONSGML v1.0//EN
CALSCALE:GREGORIAN
METHOD:PUBLISH
BEGIN:VEVENT
UID:69e748f348657
DTSTAMP:20260421T095251Z
DTSTART:20240613T113000Z
DTEND:20240614T160000Z
LOCATION:Aquarium im Südblock Skalitzer Str. 6\,  10999 Berlin
SUMMARY:Klassen.Gefühle.Erzählen
DESCRIPTION:Die Literaturwissenschaftlerin bell hooks schreibt in ihrem Buc
 h Die Bedeutung von Klasse: „Heutzutage ist es angesagt\,  über Themen w
 ie race und Gender zu sprechen; das weniger coole Thema ist Klasse. Es ist 
 das Thema\,  bei dem wir alle verkrampfen\,  nervös werden\,  nicht sicher
  sind\,  wo wir stehen.“ Und doch spielen\, [..]\nhttps://literaturwissen
 schaft-berlin.de/events/klassen-gefuehle-erzaehlen/
URL:https://literaturwissenschaft-berlin.de/events/klassen-gefuehle-erzaehlen/
END:VEVENT
END:VCALENDAR