BEGIN:VCALENDAR
VERSION:2.0
PRODID:-//eventon.com NONSGML v1.0//EN
CALSCALE:GREGORIAN
METHOD:PUBLISH
BEGIN:VEVENT
UID:69eb94a942d77
DTSTAMP:20260424T160457Z
DTSTART:20241119T180000Z
DTEND:20241119T203000Z
LOCATION:Literarisches Colloquium Berlin Am Sandwerder 5\,  14109 Berlin
SUMMARY:Literatur-Quintett zum Deutschen Jugendliteraturpreis 2024
DESCRIPTION:Welche Titel stehen dieses Jahr zu Recht auf der Longlist des&n
 bsp;Deutschen Jugendliteraturpreises und welche nicht? Welche Themen intere
 ssieren junge Leser·innen und was zeichnet aktuelle Jugendliteratur überh
 aupt aus? In Kooperation mit der LiteraturInitiative Berlin (LIN) öffnet d
 as LCB an diesem Abend zum ersten Mal seine Bühne für ein junges Quintett
  aus[..]\nhttps://literaturwissenschaft-berlin.de/events/literatur-quintett
 -zum-deutschen-jugendliteraturpreis-2024/
URL:https://literaturwissenschaft-berlin.de/events/literatur-quintett-zum-deutschen-jugendliteraturpreis-2024/
END:VEVENT
END:VCALENDAR