BEGIN:VCALENDAR
VERSION:2.0
PRODID:-//eventon.com NONSGML v1.0//EN
CALSCALE:GREGORIAN
METHOD:PUBLISH
BEGIN:VEVENT
UID:69e6341e3cb32
DTSTAMP:20260420T141142Z
DTSTART:20251021T113000Z
DTEND:20251022T190000Z
LOCATION:Literaturforum im Brecht-Haus Chausseestraße 125\,  10115 Berlin
SUMMARY:Lesekreise
DESCRIPTION:Organisiert von&nbsp;Barbara Bausch (FU Berlin)\,  Moritz Ganse
 n (ZfL/CMB)\,  Ivana Perica (ZfL) Kontakt:&nbsp;Ivana Perica ZfL-Projekt(e)
 :&nbsp;Kartographie des politischen Romans in Europa\, &nbsp;Lesekreise Les
 ekreise erleben eine Renaissance. Sei es in der Bibliothek\,  der queeren B
 uchhandlung oder im Gefängnis\,  sei es in der Online-Lesegruppe oder im K
 ontext gewerkschaftlicher Arbeit: Gemeinschaftliche Lektüren bringen ander
 e Effekte hervor[..]\nhttps://literaturwissenschaft-berlin.de/events/lesekr
 eise/
URL:https://literaturwissenschaft-berlin.de/events/lesekreise/
END:VEVENT
END:VCALENDAR