BEGIN:VCALENDAR
VERSION:2.0
PRODID:-//eventon.com NONSGML v1.0//EN
CALSCALE:GREGORIAN
METHOD:PUBLISH
BEGIN:VEVENT
UID:69e744ac511e3
DTSTAMP:20260421T093436Z
DTSTART:20190704T080000Z
DTEND:20190704T141500Z
LOCATION:Max-Planck-Institut für Wissenschaftsgeschichte Boltzmannstraße 22\,  14195 Berlin
SUMMARY:The Artist-Silkworm Interface
DESCRIPTION:This one-day symposium discusses how the lens of contemporary a
 rt can engage with the genre of the agricultural treatises and manuals that
  have long attracted the attention of scholars in the history of science. I
 nterrogating how art situated at the animal-machine interface can contribut
 e to the analysis of knowledge production[..]\nhttps://literaturwissenschaf
 t-berlin.de/events/the-artist-silkworm-interface/
URL:https://literaturwissenschaft-berlin.de/events/the-artist-silkworm-interface/
END:VEVENT
END:VCALENDAR