BEGIN:VCALENDAR
VERSION:2.0
PRODID:-//eventon.com NONSGML v1.0//EN
CALSCALE:GREGORIAN
METHOD:PUBLISH
BEGIN:VEVENT
UID:69e4ef7f8966d
DTSTAMP:20260419T150639Z
DTSTART:20190919T180000Z
DTEND:20190919T215000Z
LOCATION:Institut Français Kurfürstendamm 211 10719 Berlin
SUMMARY:Boris Poplawski
DESCRIPTION:Der russische Schriftsteller Boris Poplawski\,  geboren 1903 in
  Moskau\,  emigrierte während des Bürgerkriegs und siedelte sich 1921 in 
 Paris an. Mit nur 32 Jahren starb er\,  vermutlich an einer Überdosis Hero
 in. Das Werk des Autors der »nicht bemerkten Generation« erschien in Russ
 land erst nach der Perestroika. Seine Übersetzerin Olga Radetzkaja[..]\nht
 tps://literaturwissenschaft-berlin.de/events/boris-poplawski/
URL:https://literaturwissenschaft-berlin.de/events/boris-poplawski/
END:VEVENT
END:VCALENDAR