BEGIN:VCALENDAR
VERSION:2.0
PRODID:-//eventon.com NONSGML v1.0//EN
CALSCALE:GREGORIAN
METHOD:PUBLISH
BEGIN:VEVENT
UID:69e732e20d1e7
DTSTAMP:20260421T081842Z
DTSTART:20191024T173000Z
DTEND:20191024T193000Z
LOCATION:Haus für Poesie Knaackstr. 97 (Kulturbrauerei)
SUMMARY:Regener meets Lentz
DESCRIPTION:Lesung & Gespräch mit Michael Lentz Autor\,  Berlin | Sven Reg
 ener Musiker und Autor\,  Berlin | Moderation Stefan Greif Literaturwissens
 chaftler\,  Kassel und Jan Wilm Literaturwissenschaftler\,  Essen Auf den e
 rsten Blick könnten sie unterschiedlicher kaum sein: Sven Regener und Mich
 ael Lentz. In diesem Jahr erscheinen zwei TEXT+KRITIK-Ausgaben über die be
 iden Künstlerpersönlichkeiten\, [..]\nhttps://literaturwissenschaft-berli
 n.de/events/regener-meets-lentz/
URL:https://literaturwissenschaft-berlin.de/events/regener-meets-lentz/
END:VEVENT
END:VCALENDAR