BEGIN:VCALENDAR
VERSION:2.0
PRODID:-//eventon.com NONSGML v1.0//EN
CALSCALE:GREGORIAN
METHOD:PUBLISH
BEGIN:VEVENT
UID:69e7338f96804
DTSTAMP:20260421T082135Z
DTSTART:20191128T180000Z
DTEND:20191130T130000Z
LOCATION:Literaturhaus Berlin Fasanenstr. 23
SUMMARY:Marcel Proust und das Judentum
DESCRIPTION:Organisation und wissenschaftliche Koordination: Prof. Dr. Rein
 er Speck Dr. Alexis Eideneier 125 Jahre nach Beginn der Dreyfus-Affäre ist
  das Thema „Marcel Proust und das Judentum“ erstmals Gegenstand einer w
 issenschaftlichen Tagung in Deutschland. Das Anliegen des Symposions der Ma
 rcel Proust Gesellschaft ist es\,  der Vielfalt jüdischer Sujets im Werk d
 es französischen[..]\nhttps://literaturwissenschaft-berlin.de/events/marce
 l-proust-und-das-judentum/
URL:https://literaturwissenschaft-berlin.de/events/marcel-proust-und-das-judentum/
END:VEVENT
END:VCALENDAR