BEGIN:VCALENDAR
VERSION:2.0
PRODID:-//eventon.com NONSGML v1.0//EN
CALSCALE:GREGORIAN
METHOD:PUBLISH
BEGIN:VEVENT
UID:69e732f32cdef
DTSTAMP:20260421T081859Z
DTSTART:20191103T160000Z
DTEND:20191103T225000Z
LOCATION:Volksbühne Berlin Linienstraße 227\,  10178 Berlin
SUMMARY:"Keine Gewalt!"
DESCRIPTION:Die Veranstaltung im Roten Salon ist ausverkauft! Wir bieten da
 her zusätzlich eine Übertragung ins Sternfoyer an: Um Anmeldung wird übe
 r veranstaltung@linksfraktion.de mit dem Betreff "Keine Gewalt" gebeten. Po
 dium mit: Simone Barrientos (Moderation)\,  Teilnehmerin an der Demonstrati
 on 1989\,  heute kulturpolitische Sprecherin DIE LINKE im Bundestag Dr. Gre
 gor Gysi\,  1989 Rechtsanwalt\,  damaliger[..]\nhttps://literaturwissenscha
 ft-berlin.de/events/keine-gewalt/
URL:https://literaturwissenschaft-berlin.de/events/keine-gewalt/
END:VEVENT
END:VCALENDAR