BEGIN:VCALENDAR
VERSION:2.0
PRODID:-//eventon.com NONSGML v1.0//EN
CALSCALE:GREGORIAN
METHOD:PUBLISH
BEGIN:VEVENT
UID:69e745108cee6
DTSTAMP:20260421T093616Z
DTSTART:20191206T180000Z
DTEND:20191206T190000Z
LOCATION:Literaturforum im Brecht-Haus Chausseestraße 125\,  10115 Berlin
SUMMARY:Reichtumskatastrophe – Reichtum als Problem
DESCRIPTION:Lecture Performance Andcompany&Co. the return of the equalizer 
 Mit Alexander Karschnia\,  Claudia Splitt und Kathrin Krottenthaler Die Wah
 l von Donald Trump vor drei Jahren hat drei Phänomene miteinander in Verbi
 ndung gebracht\,  die bislang nicht zusammen gedacht worden sind: Mauerfall
  („Ende des Kommunismus“)\,  Explosion der Ungleichheit (Neoliberalismu
 s) und Leugnung des Klimawandels.[..]\nhttps://literaturwissenschaft-berlin
 .de/events/reichtumskatastrophe-reichtum-als-problem/
URL:https://literaturwissenschaft-berlin.de/events/reichtumskatastrophe-reichtum-als-problem/
END:VEVENT
END:VCALENDAR