BEGIN:VCALENDAR
VERSION:2.0
PRODID:-//eventon.com NONSGML v1.0//EN
CALSCALE:GREGORIAN
METHOD:PUBLISH
BEGIN:VEVENT
UID:69e732b0cd048
DTSTAMP:20260421T081752Z
DTSTART:20210122T183000Z
DTEND:20210122T203000Z
LOCATION:Rosa-Luxemburg-Stiftung Straße der Pariser Kommune 8A\,  10243 Berlin
SUMMARY:Peter Jehle
DESCRIPTION:Am 22. Januar 1891 wurde Antonio Gramsci geboren. Anlässlich s
 eines 130. Geburtstages gedenken wir seiner mit einem Vortrag über sein We
 rk\,  das bis heute von großer Aktualität und Relevanz für die politisch
 e Theorie und Praxis ist. Mit großer Selbstverständlichkeit nutzen heute 
 Politiker jeglicher Couleur Begriffe wie Zivilgesellschaft oder Hegemonie. 
 Beide[..]\nhttps://literaturwissenschaft-berlin.de/events/peter-jehle/
URL:https://literaturwissenschaft-berlin.de/events/peter-jehle/
END:VEVENT
END:VCALENDAR