BEGIN:VCALENDAR
VERSION:2.0
PRODID:-//eventon.com NONSGML v1.0//EN
CALSCALE:GREGORIAN
METHOD:PUBLISH
BEGIN:VEVENT
UID:69e733fd3b789
DTSTAMP:20260421T082325Z
DTSTART:20210203T190000Z
DTEND:20210203T225000Z
LOCATION:Akademie der Künste - Pariser Platz Pariser Platz 4\,  Berlin
SUMMARY:Kjetil Trædal Thorsen
DESCRIPTION:Die Vortrags- und Gesprächsreihe „On the Duty and the Power 
 of Architecture“ wird in diesem Jahr digital fortgesetzt. Erster Gespräc
 hspartner ist das Mitglied der Sektion Baukunst\,  Kjetil Trædal Thorsen (
 Jahrgang 1958). Er ist Mitbegründer des Büros Snøhetta für Architektur\
 ,  Landschaftsarchitektur\,  Innenarchitektur und Design\,  mit Sitz in Osl
 o und New York.[..]\nhttps://literaturwissenschaft-berlin.de/events/kjetil-
 traedal-thorsen/
URL:https://literaturwissenschaft-berlin.de/events/kjetil-traedal-thorsen/
END:VEVENT
END:VCALENDAR