BEGIN:VCALENDAR
VERSION:2.0
PRODID:-//eventon.com NONSGML v1.0//EN
CALSCALE:GREGORIAN
METHOD:PUBLISH
BEGIN:VEVENT
UID:69e733b23a378
DTSTAMP:20260421T082210Z
DTSTART:20210210T100000Z
DTEND:20210210T120000Z
LOCATION:Literaturforum im Brecht-Haus Chausseestraße 125\,  10115 Berlin
SUMMARY:Brecht-Tage 21 pre-event
DESCRIPTION:„Blumen am Grab“\,  dieser Tagesordnungspunkt war seit 1978
 \,  jeweils am 10. Februar\,  fester Bestandteil der jährlich ausgerichtet
 en Brecht-Tage. In den letzten Jahren ist diese Tradition zu Brechts Geburt
 stag in Vergessenheit geraten\,  2021 sollte sie erstmals wieder aufgegriff
 en werden\,  was nun leider nicht möglich ist. Stattdessen stellen die Pro
 jektleiter*innen Luise Meier[..]\nhttps://literaturwissenschaft-berlin.de/e
 vents/brecht-tage-21-pre-event/
URL:https://literaturwissenschaft-berlin.de/events/brecht-tage-21-pre-event/
END:VEVENT
END:VCALENDAR