BEGIN:VCALENDAR
VERSION:2.0
PRODID:-//eventon.com NONSGML v1.0//EN
CALSCALE:GREGORIAN
METHOD:PUBLISH
BEGIN:VEVENT
UID:69e73836d6eb0
DTSTAMP:20260421T084126Z
DTSTART:20211125T180000Z
DTEND:20211125T225000Z
LOCATION:Akademie der Künste - Hanseatenweg Hanseatenweg 10\,  10557 Berlin
SUMMARY:Literatur und NOTHINGTOSEENESS
DESCRIPTION:Literarische Arbeiten sind schon in der Ausstellung „NOTHINGS
 TOSEENESS – Leere/Weiß/Stille“ in Form von kommentierenden Postkarten\
 ,  Kunstwerken und Installation vertreten. Doch das Nichts\,  die Leere\,  
 die Farbe Weiß und die Stille sind in der Literatur selbst wohlbekannte To
 poi. Cécile Wajsbrot\,  Lothar Trolle\,  Ulrike Draesner\,  Michael Krüge
 r und Timm Ulrichs werden eigene[..]\nhttps://literaturwissenschaft-berlin.
 de/events/literatur-und-nothingtoseeness/
URL:https://literaturwissenschaft-berlin.de/events/literatur-und-nothingtoseeness/
END:VEVENT
END:VCALENDAR