BEGIN:VCALENDAR
VERSION:2.0
PRODID:-//eventon.com NONSGML v1.0//EN
CALSCALE:GREGORIAN
METHOD:PUBLISH
BEGIN:VEVENT
UID:69e7450a257db
DTSTAMP:20260421T093610Z
DTSTART:20220107T160000Z
DTEND:20220107T173000Z
LOCATION:Literaturforum im Brecht-Haus Chausseestraße 125\,  10115 Berlin
SUMMARY:Roland Berbig
DESCRIPTION:In Franz Fühmanns Werk und Biografie spiegeln sich die Katastr
 ophen und Konfrontationen des 20. Jahrhunderts paradigmatisch – Erfahrung
 en und Widersprüche\,  aus denen Fühmann das Ringen um Wahrheit als obers
 ten Wert von Literatur ableitete. Die eigene Verstrickung in den Nationalso
 zialismus\,  die Erkenntnis\,  über Auschwitz zum Sozialismus gekommen zu 
 sein\,  die Frage[..]\nhttps://literaturwissenschaft-berlin.de/events/rolan
 d-berbig/
URL:https://literaturwissenschaft-berlin.de/events/roland-berbig/
END:VEVENT
END:VCALENDAR